BEGIN:VCALENDAR
VERSION:2.0
PRODID:-//TU420  - ECPv6.15.1//NONSGML v1.0//EN
CALSCALE:GREGORIAN
METHOD:PUBLISH
X-WR-CALNAME:TU420 
X-ORIGINAL-URL:https://tu420.com
X-WR-CALDESC:Events for TU420 
REFRESH-INTERVAL;VALUE=DURATION:PT1H
X-Robots-Tag:noindex
X-PUBLISHED-TTL:PT1H
BEGIN:VTIMEZONE
TZID:America/Chicago
BEGIN:DAYLIGHT
TZOFFSETFROM:-0600
TZOFFSETTO:-0500
TZNAME:CDT
DTSTART:20240310T080000
END:DAYLIGHT
BEGIN:STANDARD
TZOFFSETFROM:-0500
TZOFFSETTO:-0600
TZNAME:CST
DTSTART:20241103T070000
END:STANDARD
END:VTIMEZONE
BEGIN:VEVENT
DTSTART;TZID=America/Chicago:20240309T080000
DTEND;TZID=America/Chicago:20240309T170000
DTSTAMP:20260421T110041
CREATED:20240301T231747Z
LAST-MODIFIED:20240301T231946Z
UID:8488-1709971200-1710003600@tu420.com
SUMMARY:Learn To Fly Fish Oklahoma Class
DESCRIPTION:That is the name of our Dave Whitlock TU Chapter’s fly-fishing education program offered via the Jenks Community Education Program. \n\n\n\n\nOur motto has become … “If you want to learn to fly fish or know someone that wants to learn to fly fish and you don’t want to teach them yourself\, send them or come to us\, we teach fly fishing.” \nThis all-in-one\, single day course on fly fishing covers the basics of many things in fly fishing. Terminology\, when\, where and how to catch a variety of Oklahoma’s many species\, recognizing these species\, covers fly tying\, learning the most important fly-fishing knots and how to tie them and finally\, how to cast a fly using a fly rod. \nThe clinic is offered at the Jenks High School Aquatics Center on the campus of Jenks High School where we can teach casting technique on the water. Offered indoors\, rain or shine for a fee of only $35\, it is a course many\, now seasoned fly casters\, have taken. All proceeds go to your Chapter for other programs. \n\n\n\n\nSign-up on the Jenks Community Education web site. Registration is also available by calling 918- 299-4415\, Monday to Friday\, 8am to 4pm.
URL:https://tu420.com/event/learn-to-fly-fish-oklahoma-class/
LOCATION:Jenks Community Education\, 951 W. Main St.\, Jenks\, OK\, 74037\, United States
CATEGORIES:Class
END:VEVENT
BEGIN:VEVENT
DTSTART;TZID=America/Chicago:20240307T183000
DTEND;TZID=America/Chicago:20240307T203000
DTSTAMP:20260421T110041
CREATED:20240301T230812Z
LAST-MODIFIED:20240301T231134Z
UID:8484-1709836200-1709843400@tu420.com
SUMMARY:Monthly Meeting "Fishing With Joel"
DESCRIPTION:Join us for the TU420 Monthly Chapter Meeting and guest speaker\, Joel. \n\n\n\n\nGuest Speaker: Long time friend to many in our Trout Unlimited Chapter and past President of both the Tulsa Fly Fishers and the Oklahoma Chapter of TU\, now The Dave Whitlock Chapter will be Joel Kantor. \nWe will let Joel explain his presentation in his own words: \n“To my friends of TU and Tulsa Fly Fishers. I’m honored to be asked to share with you a few recent fly-fishing outings I have had. The first will be a short picture show on fishing a tributary of the Rio Negro for peacock bass and the other species which roam these waters. \n\n\n\n\nThe other discussion will be on a small river northeast of Atlanta GA for rainbow and brown trout\, extremely large fish. I hope you can join in the discussion.”
URL:https://tu420.com/event/monthly-meeting-fishing-with-joel/
LOCATION:Hardesty Library\, 8316 E 93rd St.\, Tulsa\, 74133\, United States
CATEGORIES:Monthly Meetings
ATTACH;FMTTYPE=image/jpeg:https://tu420.com/wp-content/uploads/2024/03/1.jpg
END:VEVENT
BEGIN:VEVENT
DTSTART;TZID=America/Chicago:20240302T080000
DTEND;TZID=America/Chicago:20240302T123000
DTSTAMP:20260421T110041
CREATED:20240301T225113Z
LAST-MODIFIED:20240301T231036Z
UID:8258-1709366400-1709382600@tu420.com
SUMMARY:Mystery Fly Tournament
DESCRIPTION:Join us on March 2nd for our 6th Annual Mystery Fly Tournament. This fun event will feature a fly that should fish well on our local home water\, the Lower Illinois River. We’ll meet in the Watts parking lot at 8:00AM. Flies will be available for a $5 donation. \nInitially\, everyone has the opportunity to purchase one fly. Once everyone has purchased a fly\, if there are any left\, the rest will be made available for an additional $5.00 donations. \n\n\n\n\nAfter checking in and getting your fly you do not have to stay at Watts. All legal access areas of the river are open to the tournament. Tournament scoring begins at 9:00AM and ends at Noon. Please return to Watts for lunch and to turn in your score. \nWe’ll have prizes for the most trout caught and the biggest trout caught. Lunch is provided by TU420 and will be served at 12:30 in the Watts parking lot. \n6th Annual TU420 Mystery Fly Tournament Watts WMA\, Lower Illinois River \n8:00AM Sign Up @ Watts Area $5 donation per fly \n9:00AM Scoring Begins\n12:00PM Scoring Ends\n12:30PM Results and Lunch @ Watts Area See you there!
URL:https://tu420.com/event/mystery-fly/
LOCATION:Watts Parking Lot\, E0990 Rd\, Gore\, OK\, 74435\, United States
CATEGORIES:Tournaments
ATTACH;FMTTYPE=image/png:https://tu420.com/wp-content/uploads/2024/03/Screenshot-2024-03-01-at-9.00.27 AM.png
END:VEVENT
END:VCALENDAR